BEGIN:VCALENDAR
VERSION:2.0
PRODID:-//The Old Bergen Church - ECPv5.14.1//NONSGML v1.0//EN
CALSCALE:GREGORIAN
METHOD:PUBLISH
X-WR-CALNAME:The Old Bergen Church
X-ORIGINAL-URL:http://www.oldbergenchurch.com
X-WR-CALDESC:Events for The Old Bergen Church
BEGIN:VTIMEZONE
TZID:America/New_York
BEGIN:DAYLIGHT
TZOFFSETFROM:-0500
TZOFFSETTO:-0400
TZNAME:EDT
DTSTART:20250309T070000
END:DAYLIGHT
BEGIN:STANDARD
TZOFFSETFROM:-0400
TZOFFSETTO:-0500
TZNAME:EST
DTSTART:20251102T060000
END:STANDARD
END:VTIMEZONE
BEGIN:VEVENT
DTSTART;TZID=America/New_York:20250320T090000
DTEND;TZID=America/New_York:20250320T100000
DTSTAMP:20260420T213346
CREATED:20250226T150809Z
LAST-MODIFIED:20250226T150809Z
UID:8144-1742461200-1742464800@www.oldbergenchurch.com
SUMMARY:Jersey City Together - Water Action
DESCRIPTION:The Schools Water Fountains project is complete! 1\,169 drinking fountains installed! Thanks to organizing by Jersey City Together and the hard work of the Jersey City Public Schools staff\, the Jersey City Municipal Utilities Authority\, and many others\, students and staff at every JCBOE school and early childhood learning center now have clean drinking water with new water fountains. Join us in celebrating this accomplishment on Thursday\, March 20\, from 9:15 to 10:15 AM at Alexander D. Sullivan School\, (PS #30) 171 Seaview Avenue\, Jersey City. The details: Arrive between 8:45 and 9:00 a.m. and bring an ID.
URL:http://www.oldbergenchurch.com/event/jersey-city-together-water-action/
LOCATION:PS #30\, 171 Seaview Ave\, Jersey City\, NJ
END:VEVENT
END:VCALENDAR